BEGIN:VCALENDAR
VERSION:2.0
PRODID:-//Library Market//iCal Export//EN
BEGIN:VEVENT
SUMMARY:Crafty Time
UID:52401
DTSTAMP:20260419T203900Z
DTSTART:20260616T200000Z
DTEND:20260616T204500Z
LOCATION:Kennedy Library, 500 Hoes Lane, Piscataway, NJ 08854, United Stat
 es
ROOM: Kennedy Meeting Room
DESCRIPTION:for kids in grades K-5 (ages 5-11)Get crafty with Ms. Karin an
 d Ms. Erica! We will be making and playing with play-dough.Registration is
  required. Supplies cannot be guaranteed if you are more than 10 minutes l
 ate to the program. Thank you for your understanding. 
URL:https://www.piscatawaylibrary.org/event/crafty-time-52401
END:VEVENT
END:VCALENDAR
