BEGIN:VCALENDAR
VERSION:2.0
PRODID:-//Library Market//iCal Export//EN
BEGIN:VEVENT
SUMMARY:Paper House Luminaries
UID:52288
DTSTAMP:20260419T203900Z
DTSTART:20260603T190000Z
DTEND:20260603T200000Z
LOCATION:Westergard Library, 20 Murray Avenue, Piscataway, NJ 08854, Unite
 d States
ROOM: Westergard Teen Center
DESCRIPTION:Join us to create a one-of-a-kind paper house luminary! This 
 is an in-person program for patrons ages 12-18 or grades 6-12. Registratio
 n is required.
URL:https://www.piscatawaylibrary.org/event/paper-house-luminaries-52288
END:VEVENT
END:VCALENDAR
