BEGIN:VCALENDAR
VERSION:2.0
PRODID:-//Library Market//iCal Export//EN
BEGIN:VEVENT
SUMMARY:Color Club
UID:52273
DTSTAMP:20260419T203900Z
DTSTART:20260519T183000Z
DTEND:20260519T203000Z
LOCATION:Kennedy Library, 500 Hoes Lane, Piscataway, NJ 08854, United Stat
 es
ROOM: Kennedy Teen Area
DESCRIPTION:Do you go crazy for coloring? So do we! Join us any time betw
 een 2:30 and 4 pm to color velvet posters, pencil pouches, mini notebooks,
  and more! Register to receive reminders. This event is only for teens in
  grades 6-12, ages 12-18.   
URL:https://www.piscatawaylibrary.org/event/color-club-52273
END:VEVENT
END:VCALENDAR
