BEGIN:VCALENDAR
VERSION:2.0
PRODID:-//Library Market//iCal Export//EN
BEGIN:VEVENT
SUMMARY:Art Around the World: Bojagi
UID:52242
DTSTAMP:20260419T185500Z
DTSTART:20260828T143000Z
DTEND:20260828T173000Z
LOCATION:Kennedy Library, 500 Hoes Lane, Piscataway, NJ 08854, United Stat
 es
ROOM: Kennedy Meeting Room
DESCRIPTION:Traditional Korean Handsewing: Making a Bojagi MobileBojagi re
 fers to the Korean tradition of using fabric wrapping cloths for wrapping 
 gifts and other household purposes. Often, the cloths were made by jogakbo
 , or piecework. In this workshop, we’ll learn about the history of bojag
 i and see examples of how the tradition continues even in modern day. Usin
 g the traditional art of jogakbo, we’ll sew our own bojagi mobiles with 
 silk organza and ramie fabric. Some previous sewing experience requiredGra
 nt funding has been provided by the Middlesex County Board of County Commi
 ssioners through a grant award from the Middlesex County Cultural and Arts
  Trust Fund. For information on events, go to MiddlesexCountyCulture.com
URL:https://www.piscatawaylibrary.org/bojagi
END:VEVENT
END:VCALENDAR
