BEGIN:VCALENDAR
VERSION:2.0
PRODID:-//Library Market//iCal Export//EN
BEGIN:VEVENT
SUMMARY:Pineapple Pixel Dotz: Teen Take and Make Activity
UID:52241
DTSTAMP:20260419T203900Z
DTSTART:20260526T140000Z
DTEND:20260526T150000Z
LOCATION:Westergard Library, 20 Murray Avenue, Piscataway, NJ 08854, Unite
 d States
ROOM: Westergard Central
DESCRIPTION:Stop by Westergard anytime this week, May 26-30, to pick up yo
 ur Pineapple Pizel Dotz kit! Instructions and all materials included.This 
 event is for teens aged 12-18 and in grades 6-12. Registration is required
 .
URL:https://www.piscatawaylibrary.org/event/pineapple-pixel-dotz-teen-take
 -and-make-activity-52241
END:VEVENT
END:VCALENDAR
