BEGIN:VCALENDAR
VERSION:2.0
PRODID:-//Library Market//iCal Export//EN
BEGIN:VEVENT
SUMMARY:Book Chat
UID:52235
DTSTAMP:20260420T011700Z
DTSTART:20260820T230000Z
DTEND:20260821T000000Z
LOCATION:
DESCRIPTION:Thank you for registering for Book Chat, hosted virtually by P
 iscataway Public Library.  Here is the zoom link:  Piscataway Library i
 s inviting you to a scheduled Zoom meeting.\r\nJoin Zoom Meeting\r\nhttps:
 //us02web.zoom.us/j/89123924231?pwd=MXgxWG5jbnhmUHdsZ2pKd2JRRG9qQT09\r\nMe
 eting ID: 891 2392 4231\r\nPasscode: 141945
URL:https://www.piscatawaylibrary.org/event/book-chat-52235
END:VEVENT
END:VCALENDAR
