BEGIN:VCALENDAR
VERSION:2.0
PRODID:-//Library Market//iCal Export//EN
BEGIN:VEVENT
SUMMARY:Book Chat
UID:52231
DTSTAMP:20260421T111900Z
DTSTART:20260416T230000Z
DTEND:20260417T000000Z
LOCATION:
DESCRIPTION:Tell us about the authors you loved, the titles you despised, 
 and the stories you can&#039;t forget -- all from the comfort of your home
 .   
URL:https://www.piscatawaylibrary.org/event/book-chat-52231
END:VEVENT
END:VCALENDAR
