BEGIN:VCALENDAR
VERSION:2.0
PRODID:-//Library Market//iCal Export//EN
BEGIN:VEVENT
SUMMARY:Pom Pom Mobiles
UID:52212
DTSTAMP:20260419T203900Z
DTSTART:20260518T190000Z
DTEND:20260518T200000Z
LOCATION:Westergard Library, 20 Murray Avenue, Piscataway, NJ 08854, Unite
 d States
ROOM: Westergard Teen Center
DESCRIPTION:Join us to make a summery pom-pom mobile!This is an in-person 
 event for patrons ages 12-18 or in grades 6-12. Registration is required.
URL:https://www.piscatawaylibrary.org/event/pom-pom-mobiles-52212
END:VEVENT
END:VCALENDAR
