BEGIN:VCALENDAR
VERSION:2.0
PRODID:-//Library Market//iCal Export//EN
BEGIN:VEVENT
SUMMARY:Mystery Book Club - Murder takes a vacation
UID:51942
DTSTAMP:20260419T234700Z
DTSTART:20260609T230000Z
DTEND:20260610T000000Z
LOCATION:Kennedy Library, 500 Hoes Lane, Piscataway, NJ 08854, United Stat
 es
ROOM: Kennedy MiY Makerspace
DESCRIPTION:Welcome to our mystery book club for adult readers! It&#039;s
  all about the great genre of whodunits, detectives and puzzles to solve. 
 Please join us and we will untangle it together. Murder Takes a Vacation
 Highly acclaimed New York Times bestselling author Laura Lippman returns
  with an irresistible mystery featuring Muriel Blossom, a former private i
 nvestigator and middle-aged widow whose vacation on a Parisian river cruis
 e turns into a deadly international mystery…that only she can solve. Wh
 en Mrs. Blossom booked her cruise through France on the MS Solitaire, she 
 did not expect to meet Allan on her transatlantic flight. He is the first 
 man who’s sparked something inside her since her beloved husband passed.
 She also didn’t expect Allan to be found, dead, twenty-four hours later 
 in Paris, a city he wasn’t supposed to be in.Now Mrs. Blossom doesn’t 
 know who to trust on board the ship, especially when a mystifying man, Dan
 ny, keeps popping up around every corner, always present when things go aw
 ry. He is convinced that Allan was transporting a stolen piece of art, and
  Mrs. Blossom knows more than she lets on, regarding both the artifact and
  Allan’s death.Why does it feel like she is being followed? Who was Alla
 n, and why was he killed? Copies of the Murder Takes a Vacation will be a
 vailable at the Kennedy information desk three weeks before the event.
URL:https://www.piscatawaylibrary.org/event/mystery-book-club-51942
END:VEVENT
END:VCALENDAR
