BEGIN:VCALENDAR
VERSION:2.0
PRODID:-//Library Market//iCal Export//EN
BEGIN:VEVENT
SUMMARY:Twilight Tales Family Story Time
UID:51466
DTSTAMP:20260419T203900Z
DTSTART:20260512T223000Z
DTEND:20260512T231500Z
LOCATION:Westergard Library, 20 Murray Avenue, Piscataway, NJ 08854, Unite
 d States
ROOM: Westergard Meeting Room
DESCRIPTION:Twilight Tales Family Story TimeAges 2-8 yearsCelebrate Nation
 al Space Day in May and blast off into a galaxy of imagination! Join our s
 pace adventure storytime filled with exciting tales of rockets and brave e
 xplorers, silly space songs, and fun space games. Then get creative with a
  hands-on craft and design your own rocket!  Put on your imaginary space 
 helmet and get ready for a countdown to fun…3… 2… 1…lift off!!  R
 egistration required.
URL:https://www.piscatawaylibrary.org/event/twilight-tales-family-story-ti
 me-51466
END:VEVENT
END:VCALENDAR
