BEGIN:VCALENDAR
VERSION:2.0
PRODID:-//Library Market//iCal Export//EN
BEGIN:VEVENT
SUMMARY:Women&#039;s Wellness Workshop
UID:50897
DTSTAMP:20260419T234700Z
DTSTART:20260506T230000Z
DTEND:20260507T003000Z
LOCATION:Westergard Library, 20 Murray Avenue, Piscataway, NJ 08854, Unite
 d States
ROOM: Westergard Meeting Room
DESCRIPTION:Empower &amp; RestoreJoin us for another evening of fun and le
 arning through our wellness workshop with Finda and Elsie. Shift your min
 dset to achieve sustainable resultsLearn nutrition and workout tipsDevelop
  a deeper connection within yourselfHost: Wellness Coach Finda Kpakiwa-Rob
 ledo Kpakiwa-Robledo has over 20 years in the fitness and wellness indust
 ry, from competing for 10 years, to personal training, nutrition consultin
 g and wellness coaching for women. Cohost: Wellness Motivator Elsie Jenki
 nsJenkins has spent over 30 years in the Health and Wellness industry. Tak
 ing care of the mind and body is her passion, helping others to do the sam
 e is her mission. 
URL:https://www.piscatawaylibrary.org/event/Wellness-Workshop
END:VEVENT
END:VCALENDAR
