BEGIN:VCALENDAR
VERSION:2.0
PRODID:-//Library Market//iCal Export//EN
BEGIN:VEVENT
SUMMARY:Historical Fiction Discussion
UID:50499
DTSTAMP:20260420T041100Z
DTSTART:20260713T180000Z
DTEND:20260713T190000Z
LOCATION:
DESCRIPTION:Last Night at the Telegraph Club by Malinda LoSeventeen-year-o
 ld Lily Hu can’t remember exactly when the feeling took root—that desi
 re to look, to move closer, to touch. Whenever it started growing, it defi
 nitely bloomed the moment she and Kathleen Miller walked under the flashin
 g neon sign of a lesbian bar called the Telegraph Club. Suddenly, everythi
 ng seemed possible.But America in 1954 is not a safe place for two girls t
 o fall in love, especially not in Chinatown. Red-Scare paranoia threatens 
 everyone, including Chinese Americans like Lily. With deportation looming 
 over her father—despite his hard-won citizenship—Lily and Kath risk ev
 erything to let their love see the light of day.Meticulously researched, e
 motionally stirring, and startlingly brave, Last Night at the Telegraph Cl
 ub is a standout work of historical fiction that has taken the world by st
 orm.
URL:https://www.piscatawaylibrary.org/event/historical-fiction-discussion-
 50499
END:VEVENT
END:VCALENDAR
