BEGIN:VCALENDAR
VERSION:2.0
PRODID:-//Library Market//iCal Export//EN
BEGIN:VEVENT
SUMMARY:Popsicle Clock Workshop with Artbox Studio
UID:50320
DTSTAMP:20260419T203900Z
DTSTART:20260507T193000Z
DTEND:20260507T210000Z
LOCATION:Kennedy Library, 500 Hoes Lane, Piscataway, NJ 08854, United Stat
 es
ROOM: Kennedy Meeting Room
DESCRIPTION:Ages 9 to 12Join us for a Kids Popsicle Clock Workshop at the 
 library! Children will create a fully functional clock, with a battery pow
 ered mechanism. Everyone takes home their own unique creation!Please note,
  due to the guided instructions required for this program, late admittance
  will not be permitted. 
URL:https://www.piscatawaylibrary.org/event/draft-popsicle-clock-workshop-
 artbox-studio-50320
END:VEVENT
END:VCALENDAR
