BEGIN:VCALENDAR
VERSION:2.0
PRODID:-//Library Market//iCal Export//EN
BEGIN:VEVENT
SUMMARY:Hands-On Pottery Workshop for Kids!
UID:50073
DTSTAMP:20260419T203900Z
DTSTART:20260528T213000Z
DTEND:20260528T230000Z
LOCATION:Westergard Library, 20 Murray Avenue, Piscataway, NJ 08854, Unite
 d States
ROOM: Westergard Meeting Room
DESCRIPTION:Ages 7 to 11 years old.Join Express Yourself Studios for a fun
  and engaging hands-on pottery experience! In this guided workshop, partic
 ipants will work with air-dry clay to create their own unique pottery piec
 e—no kiln required.Young artists will explore foundational clay techniqu
 es such as shaping, coiling, and adding texture as they design and build t
 heir project.  Participants will take their creations home the same day.N
 o prior experience is needed, just come ready to create! 
URL:https://www.piscatawaylibrary.org/event/kids-pottery-workshop
END:VEVENT
END:VCALENDAR
