BEGIN:VCALENDAR
VERSION:2.0
PRODID:-//Library Market//iCal Export//EN
BEGIN:VEVENT
SUMMARY:Spanish-English Language Exchange
UID:48769
DTSTAMP:20260420T011700Z
DTSTART:20260617T230000Z
DTEND:20260618T000000Z
LOCATION:Kennedy Library, 500 Hoes Lane, Piscataway, NJ 08854, United Stat
 es
ROOM: Kennedy Cafe
DESCRIPTION:Are you a native Spanish speaker wanting to improve your Engli
 sh speaking skills? Or are you fluent in English, but learning how to spea
 k Spanish? Join this language exchange conversation group! Participants wi
 ll have the opportunity to learn from each other in an open discussion by 
 speaking both Spanish and English. Registration is required.The first 30 m
 inutes will be devoted to English language learning and the second 30 minu
 tes will be devoted to Spanish language learning. This conversation group
  is appropriate for Spanish speaking English language learners and English
  speaking Spanish language learners.¿Eres hispanohablante y quieres mejor
 ar tu inglés? ¿O dominas el inglés, pero estás aprendiendo a hablar es
 pañol? ¡Únete a este grupo de conversación de intercambio de idiomas! 
 Los participantes tendrán la oportunidad de aprender unos de otros en una
  conversación abierta, hablando tanto en español como en inglés. Es nec
 esario registrarse.Los primeros 30 minutos se dedicarán al aprendizaje de
 l inglés y los segundos 30 minutos al del español. Este grupo de convers
 ación es ideal tanto para estudiantes de inglés hispanohablantes como pa
 ra estudiantes de español anglohablantes.
URL:https://www.piscatawaylibrary.org/event/spanish-english-language-excha
 nge-48769
END:VEVENT
END:VCALENDAR
