BEGIN:VCALENDAR
VERSION:2.0
PRODID:-//Library Market//iCal Export//EN
BEGIN:VEVENT
SUMMARY:Crochet A Fidget Froggy
UID:47818
DTSTAMP:20260419T203900Z
DTSTART:20260521T213000Z
DTEND:20260521T223000Z
LOCATION:Kennedy Library, 500 Hoes Lane, Piscataway, NJ 08854, United Stat
 es
ROOM: Kennedy Conference Room
DESCRIPTION:Ages 9 to 14Create a crochet fidget froggy with Ms. Riya and M
 s. Karin! Supplies will be provided.This program is for participants who a
 re already familiar with the basics of crocheting, or have previously take
 n Learn to Crochet for Kids. This is not an introductory program. Registr
 ation required. No late admittance due to the nature of the program, thank
  you!
URL:https://www.piscatawaylibrary.org/event/crochet-frog
END:VEVENT
END:VCALENDAR
