BEGIN:VCALENDAR
VERSION:2.0
PRODID:-//Library Market//iCal Export//EN
BEGIN:VEVENT
SUMMARY:Crafty Time
UID:45997
DTSTAMP:20260419T203900Z
DTSTART:20260520T200000Z
DTEND:20260520T204500Z
LOCATION:Kennedy Library, 500 Hoes Lane, Piscataway, NJ 08854, United Stat
 es
ROOM: Kennedy Meeting Room
DESCRIPTION:for kids in grades K-5 (ages 5-11)Get crafty with Ms. Karin an
 d Ms. Erica! Registration is encouraged. Supplies cannot be guaranteed if
  you are more than 10 minutes late to the program and/or not registered. T
 hank you for your understanding. 
URL:https://www.piscatawaylibrary.org/event/craft-program-k-5-45997
END:VEVENT
END:VCALENDAR
