BEGIN:VCALENDAR
VERSION:2.0
PRODID:-//Library Market//iCal Export//EN
BEGIN:VEVENT
SUMMARY:Chess for Kids
UID:44979
DTSTAMP:20260419T234600Z
DTSTART:20260504T200000Z
DTEND:20260504T204500Z
LOCATION:Westergard Library, 20 Murray Avenue, Piscataway, NJ 08854, Unite
 d States
ROOM: Westergard Meeting Room
DESCRIPTION:Grades 1-6Join us for a game of chess. Beginners and all skill
  levels are welcome! Come to learn, come to play, and come to teach. Regis
 tration required.
URL:https://www.piscatawaylibrary.org/event/chess-kids-44979
END:VEVENT
END:VCALENDAR
