BEGIN:VCALENDAR
VERSION:2.0
PRODID:-//Library Market//iCal Export//EN
BEGIN:VEVENT
SUMMARY:MiY Kids Create
UID:43220
DTSTAMP:20260419T203900Z
DTSTART:20260518T193000Z
DTEND:20260518T201500Z
LOCATION:Kennedy Library, 500 Hoes Lane, Piscataway, NJ 08854, United Stat
 es
ROOM: Kennedy MiY Makerspace
DESCRIPTION:Ages 9 to 12Join Ms. Karin in the MiY Makerspace for a fun pro
 ject!No late admittance, thank you!
URL:https://www.piscatawaylibrary.org/event/draft-miy-kids-create-43220
END:VEVENT
END:VCALENDAR
