BEGIN:VCALENDAR
VERSION:2.0
PRODID:-//Library Market//iCal Export//EN
BEGIN:VEVENT
SUMMARY:Book Discussion: My First Popsicle
UID:40577
DTSTAMP:20260419T234600Z
DTSTART:20260611T223000Z
DTEND:20260612T000000Z
LOCATION:Kennedy Library, 500 Hoes Lane, Piscataway, NJ 08854, United Stat
 es
ROOM: Kennedy Meeting Room
DESCRIPTION:Join us to discuss My First Popsicle: An Anthology of Food an
 d Feelings, edited by Zosia Mamet. The book is a warm and relatable collec
 tion of essays exploring the memories we associate with different foods in
  our lives, written by a spectrum of talented creators!Complimentary copie
 s are available for registered participants at Kennedy Library on a first-
 come, first-served basis, or you can reserve a library copy of the book he
 re. Finishing the book is not required to join the conversation.This event
  is part of our Food for Thought event series. The Food for Thought projec
 t was made possible by a grant from the New Jersey Council for the Humanit
 ies, a state partner of the National Endowment for the Humanities. Any vie
 ws, findings, conclusions, or recommendations expressed in this program do
  not necessarily represent those of the National Endowment for the Humanit
 ies or the New Jersey Council for the Humanities.
URL:https://www.piscatawaylibrary.org/my-first-popsicle
END:VEVENT
END:VCALENDAR
