BEGIN:VCALENDAR
VERSION:2.0
PRODID:-//Library Market//iCal Export//EN
BEGIN:VEVENT
SUMMARY:Tales for Tails
UID:39179
DTSTAMP:20260419T234700Z
DTSTART:20260519T220000Z
DTEND:20260519T224500Z
LOCATION:Kennedy Library, 500 Hoes Lane, Piscataway, NJ 08854, United Stat
 es
ROOM: Kennedy Meeting Room
DESCRIPTION:Grades K-5Drop in to practice reading to trained therapy dogs 
 from Bright and Beautiful Therapy Dogs, Inc. Feel free to bring your favor
 ite book or use one from the library. Great for reluctant or struggling re
 aders!
URL:https://www.piscatawaylibrary.org/event/tales-tails-39179
END:VEVENT
END:VCALENDAR
